BEGIN:VCALENDAR
VERSION:2.0
METHOD:PUBLISH
PRODID:3a5d7a16913fdfed5c4f8ae48069239887250b19
TZ:+00
BEGIN:VEVENT
DTSTART:20251204T180000Z
DTEND:20251205T075900Z
LOCATION:Virtual – Join from Anywhere!
TRANSP:OPAQUE
SEQUENCE:0
UID:3a5d7a16913fdfed5c4f8ae48069239887250b19
DTSTAMP:20260425T181525Z
SUMMARY:Breaking Down the Memory Wall in AI Infrastructure
DESCRIPTION:
PRIORITY:1
CLASS:PUBLIC
BEGIN:VALARM
TRIGGER:-PT10080M
ACTION:DISPLAY
DESCRIPTION:Reminder
END:VALARM
END:VEVENT
END:VCALENDAR
