BEGIN:VCALENDAR
VERSION:2.0
METHOD:PUBLISH
PRODID:9445ec74d1fe7a577969c13ffd1d91d5459fecae
TZ:+00
BEGIN:VEVENT
DTSTART:20230402T133000Z
DTEND:20230406T132900Z
LOCATION:Lugano, Switzerland,Palazzo dei Congressi
TRANSP:OPAQUE
SEQUENCE:0
UID:9445ec74d1fe7a577969c13ffd1d91d5459fecae
DTSTAMP:20260424T101056Z
SUMMARY:HPC AI Advisory Council Conference
DESCRIPTION:
PRIORITY:1
CLASS:PUBLIC
BEGIN:VALARM
TRIGGER:-PT10080M
ACTION:DISPLAY
DESCRIPTION:Reminder
END:VALARM
END:VEVENT
END:VCALENDAR
